BEGIN:VCALENDAR
VERSION:2.0
PRODID:-//Appledore Music Festival - ECPv6.15.20//NONSGML v1.0//EN
CALSCALE:GREGORIAN
METHOD:PUBLISH
X-WR-CALNAME:Appledore Music Festival
X-ORIGINAL-URL:https://appledoremusicfestival.co.uk
X-WR-CALDESC:Events for Appledore Music Festival
REFRESH-INTERVAL;VALUE=DURATION:PT1H
X-Robots-Tag:noindex
X-PUBLISHED-TTL:PT1H
BEGIN:VTIMEZONE
TZID:Europe/Paris
BEGIN:DAYLIGHT
TZOFFSETFROM:+0100
TZOFFSETTO:+0200
TZNAME:CEST
DTSTART:20250330T010000
END:DAYLIGHT
BEGIN:STANDARD
TZOFFSETFROM:+0200
TZOFFSETTO:+0100
TZNAME:CET
DTSTART:20251026T010000
END:STANDARD
BEGIN:DAYLIGHT
TZOFFSETFROM:+0100
TZOFFSETTO:+0200
TZNAME:CEST
DTSTART:20260329T010000
END:DAYLIGHT
BEGIN:STANDARD
TZOFFSETFROM:+0200
TZOFFSETTO:+0100
TZNAME:CET
DTSTART:20261025T010000
END:STANDARD
BEGIN:DAYLIGHT
TZOFFSETFROM:+0100
TZOFFSETTO:+0200
TZNAME:CEST
DTSTART:20270328T010000
END:DAYLIGHT
BEGIN:STANDARD
TZOFFSETFROM:+0200
TZOFFSETTO:+0100
TZNAME:CET
DTSTART:20271031T010000
END:STANDARD
END:VTIMEZONE
BEGIN:VEVENT
DTSTART;TZID=Europe/Paris:20260601T203000
DTEND;TZID=Europe/Paris:20260601T230000
DTSTAMP:20260421T083636
CREATED:20260210T131349Z
LAST-MODIFIED:20260215T162117Z
UID:6940-1780345800-1780354800@appledoremusicfestival.co.uk
SUMMARY:Steve Ruffé Acoustic Session
DESCRIPTION:Every Monday\, Steve Ruffé holds an acoustic session at the Royal Hotel. Steve’s session during the Appledore Music Festival promises to be a good one. Any musicians are welcome to join in. Come along and play or just listen and soak up the vibe. \n \nThis event has been booked by The Royal Hotel who have kindly agreed to include it in the Appledore Music Festival programme.
URL:https://appledoremusicfestival.co.uk/event/steve-ruffe-session-2026/
LOCATION:The Royal Hotel\, 2A Bude Street\, Appledore\, Devon\, EX39 1PS\, United Kingdom
CATEGORIES:Steve Ruffe
ATTACH;FMTTYPE=image/jpeg:https://appledoremusicfestival.co.uk/wp-content/uploads/2023/12/steve-ruffe-session-2026.jpg
END:VEVENT
END:VCALENDAR