BEGIN:VCALENDAR
VERSION:2.0
PRODID:-//Appledore Music Festival - ECPv6.15.20//NONSGML v1.0//EN
CALSCALE:GREGORIAN
METHOD:PUBLISH
X-ORIGINAL-URL:https://appledoremusicfestival.co.uk
X-WR-CALDESC:Events for Appledore Music Festival
REFRESH-INTERVAL;VALUE=DURATION:PT1H
X-Robots-Tag:noindex
X-PUBLISHED-TTL:PT1H
BEGIN:VTIMEZONE
TZID:Europe/Paris
BEGIN:DAYLIGHT
TZOFFSETFROM:+0100
TZOFFSETTO:+0200
TZNAME:CEST
DTSTART:20250330T010000
END:DAYLIGHT
BEGIN:STANDARD
TZOFFSETFROM:+0200
TZOFFSETTO:+0100
TZNAME:CET
DTSTART:20251026T010000
END:STANDARD
BEGIN:DAYLIGHT
TZOFFSETFROM:+0100
TZOFFSETTO:+0200
TZNAME:CEST
DTSTART:20260329T010000
END:DAYLIGHT
BEGIN:STANDARD
TZOFFSETFROM:+0200
TZOFFSETTO:+0100
TZNAME:CET
DTSTART:20261025T010000
END:STANDARD
BEGIN:DAYLIGHT
TZOFFSETFROM:+0100
TZOFFSETTO:+0200
TZNAME:CEST
DTSTART:20270328T010000
END:DAYLIGHT
BEGIN:STANDARD
TZOFFSETFROM:+0200
TZOFFSETTO:+0100
TZNAME:CET
DTSTART:20271031T010000
END:STANDARD
END:VTIMEZONE
BEGIN:VEVENT
DTSTART;TZID=Europe/Paris:20260529T190000
DTEND;TZID=Europe/Paris:20260529T203000
DTSTAMP:20260422T150805
CREATED:20260213T194132Z
LAST-MODIFIED:20260411T152803Z
UID:6948-1780081200-1780086600@appledoremusicfestival.co.uk
SUMMARY:Tunes in the Temple - Lara Conley
DESCRIPTION:Lara Conley is an acoustic folk singer songwriter and multi-instrumentalist with a storytelling song style and heartful voice. In this intimate concert Lara will be sharing songs from her extensive album collection filling this unique temple space with lilting vocals over intricate guitar\, handmade dulcimer\, heart beating frame drums and welcoming singalong harmonisation. Find out more about Lara Conley Music on Bandcamp and Insta: \n\nhttps://laraconley.bandcamp.com/\nhttps://www.instagram.com/laraconleymusic/\n\nLara is also an advocate of singing for health\, wellness and community education as the creator of Singing Circle Devon. She runs regular singing circles and workshops exploring the voice with oral tradition\, circle songs\, improvisation\, and harmony. Find out more about Singing Circle Devon at https://www.facebook.com/singingcircledevon/ \nFor the Appledore Music Festival this year\, Lara will be performing inside Sandy Brown’s fabulous temple. This amazing building is constructed from ceramic tiles and stands 6 metres tall. Inside is an intimate space that can comfortably seat 20 people with room for the performers. “Tunes in the Temple” was inaugurated at 2024’s Appledore Music Festival. Learn more about this amazing artwork here. The temple is constructed from ceramic tiles and stands 6 metres tall. Inside is an intimate space that can comfortably seat 20 people with room for the performers.  \nThe temple is located upstairs in Sandy Brown’s studio in Appledore’s New Quay Street EX39 1LU. The studio building is unmissable with its brightly painted exterior and enormous windows. You will be sitting on the ceramic floor of the temple so it is recommended to bring a cushion or blanket for comfort. And bring your own refreshments too. There are four ceramic stools available to sit on for people who have difficulty sitting on the floor. \nTickets are £10 per person including all fees. Book now as spaces are strictly limited.
URL:https://appledoremusicfestival.co.uk/event/lara-conley-2026/
LOCATION:Sandy Brown’s Studio\, The Old Glove Factory\, New Quay Street\, Appledore\, Devon\, EX39 1LU\, United Kingdom
CATEGORIES:temple
ATTACH;FMTTYPE=image/jpeg:https://appledoremusicfestival.co.uk/wp-content/uploads/2023/12/lara-conley-2026.jpg
END:VEVENT
END:VCALENDAR