BEGIN:VCALENDAR
VERSION:2.0
PRODID:-//Appledore Music Festival - ECPv6.15.20//NONSGML v1.0//EN
CALSCALE:GREGORIAN
METHOD:PUBLISH
X-ORIGINAL-URL:https://appledoremusicfestival.co.uk
X-WR-CALDESC:Events for Appledore Music Festival
REFRESH-INTERVAL;VALUE=DURATION:PT1H
X-Robots-Tag:noindex
X-PUBLISHED-TTL:PT1H
BEGIN:VTIMEZONE
TZID:Europe/Paris
BEGIN:DAYLIGHT
TZOFFSETFROM:+0100
TZOFFSETTO:+0200
TZNAME:CEST
DTSTART:20250330T010000
END:DAYLIGHT
BEGIN:STANDARD
TZOFFSETFROM:+0200
TZOFFSETTO:+0100
TZNAME:CET
DTSTART:20251026T010000
END:STANDARD
BEGIN:DAYLIGHT
TZOFFSETFROM:+0100
TZOFFSETTO:+0200
TZNAME:CEST
DTSTART:20260329T010000
END:DAYLIGHT
BEGIN:STANDARD
TZOFFSETFROM:+0200
TZOFFSETTO:+0100
TZNAME:CET
DTSTART:20261025T010000
END:STANDARD
BEGIN:DAYLIGHT
TZOFFSETFROM:+0100
TZOFFSETTO:+0200
TZNAME:CEST
DTSTART:20270328T010000
END:DAYLIGHT
BEGIN:STANDARD
TZOFFSETFROM:+0200
TZOFFSETTO:+0100
TZNAME:CET
DTSTART:20271031T010000
END:STANDARD
END:VTIMEZONE
BEGIN:VEVENT
DTSTART;TZID=Europe/Paris:20260530T190000
DTEND;TZID=Europe/Paris:20260530T203000
DTSTAMP:20260424T080642
CREATED:20260208T184530Z
LAST-MODIFIED:20260411T152820Z
UID:6919-1780167600-1780173000@appledoremusicfestival.co.uk
SUMMARY:Tunes in the Temple with Nick Wyke & Becki Driscoll
DESCRIPTION:Come to hear the amazing Nick Wyke and Becki Driscoll perform inside an actual temple made of ceramic tiles. “Tunes in the Temple” was inaugurated at 2024’s Appledore Music Festival. It takes place inside Sandy Brown’s temple. This amazing building is constructed from ceramic tiles and stands 6 metres tall. Inside is an intimate space that can comfortably seat 20 people with room for the performers.  \nThe musical partnership of Nick Wyke & Becki Driscoll has its roots in the traditional music of South West England but explores a contemporary sound that draws on inspiration from across the globe. Their latest album Cold Light bridges the gap between past and present with a mixture of traditional dance tunes\, new compositions and self-penned songs. Visit Nick and Becki’s website to learn more. \nThe temple is located upstairs in Sandy Brown’s studio in Appledore’s New Quay Street EX39 1LU. The studio building is unmissable with its brightly painted exterior and enormous windows. You will be sitting on the ceramic floor of the temple so it is recommended to bring a cushion or blanket for comfort. And bring your own refreshments too. There are four ceramic stools available to sit on for people who have difficulty sitting on the floor. \nTickets are £12 in advance including booking fee. Book now as spaces are strictly limited. \n\n  
URL:https://appledoremusicfestival.co.uk/event/nick-wyke-becki-driscoll-titt-2026-2/
LOCATION:Sandy Brown’s Studio\, New Quay Street\, Appledore\, Devon\, EX39 1LU\, United Kingdom
CATEGORIES:temple
ATTACH;FMTTYPE=image/jpeg:https://appledoremusicfestival.co.uk/wp-content/uploads/2023/12/nick-wyke-becki-driscoll-titt-2026.png
END:VEVENT
END:VCALENDAR